BEGIN:VCALENDAR
VERSION:2.0
PRODID:-//Special Improvement Districts - ECPv6.12.0.1//NONSGML v1.0//EN
CALSCALE:GREGORIAN
METHOD:PUBLISH
X-WR-CALNAME:Special Improvement Districts
X-ORIGINAL-URL:https://downtownservices.org
X-WR-CALDESC:Events for Special Improvement Districts
REFRESH-INTERVAL;VALUE=DURATION:PT1H
X-Robots-Tag:noindex
X-PUBLISHED-TTL:PT1H
BEGIN:VTIMEZONE
TZID:America/New_York
BEGIN:DAYLIGHT
TZOFFSETFROM:-0500
TZOFFSETTO:-0400
TZNAME:EDT
DTSTART:20240310T070000
END:DAYLIGHT
BEGIN:STANDARD
TZOFFSETFROM:-0400
TZOFFSETTO:-0500
TZNAME:EST
DTSTART:20241103T060000
END:STANDARD
END:VTIMEZONE
BEGIN:VEVENT
DTSTART;TZID=America/New_York:20241001T110000
DTEND;TZID=America/New_York:20241001T140000
DTSTAMP:20260424T100824
CREATED:20240422T192646Z
LAST-MODIFIED:20240422T192833Z
UID:10000245-1727780400-1727791200@downtownservices.org
SUMMARY:Pearl Market
DESCRIPTION: \nPearl Market\, your downtown farmer’s market is back!\n \nJoin us at Gay & Pearl Streets downtown to shop local farm-fresh produce and goods\, artisanal creations\, art\, and more! Live music at every market plus surprises throughout the season!\n \nDon’t forget that we’re also at the Columbus Commons on Thursdays from 11:00AM to 2:00PM!
URL:https://downtownservices.org/events/pearl-market/2024-10-01/
LOCATION:Gay and Pearl Streets\, Columbus Commons\, OH\, United States
END:VEVENT
BEGIN:VEVENT
DTSTART;TZID=America/New_York:20241003T110000
DTEND;TZID=America/New_York:20241003T140000
DTSTAMP:20260424T100824
CREATED:20240422T192646Z
LAST-MODIFIED:20240422T192833Z
UID:10000246-1727953200-1727964000@downtownservices.org
SUMMARY:Pearl Market
DESCRIPTION: \nPearl Market\, your downtown farmer’s market is back!\n \nJoin us at Gay & Pearl Streets downtown to shop local farm-fresh produce and goods\, artisanal creations\, art\, and more! Live music at every market plus surprises throughout the season!\n \nDon’t forget that we’re also at the Columbus Commons on Thursdays from 11:00AM to 2:00PM!
URL:https://downtownservices.org/events/pearl-market/2024-10-03/
LOCATION:Gay and Pearl Streets\, Columbus Commons\, OH\, United States
END:VEVENT
BEGIN:VEVENT
DTSTART;TZID=America/New_York:20241008T110000
DTEND;TZID=America/New_York:20241008T140000
DTSTAMP:20260424T100824
CREATED:20240422T192646Z
LAST-MODIFIED:20240422T192833Z
UID:10000247-1728385200-1728396000@downtownservices.org
SUMMARY:Pearl Market
DESCRIPTION: \nPearl Market\, your downtown farmer’s market is back!\n \nJoin us at Gay & Pearl Streets downtown to shop local farm-fresh produce and goods\, artisanal creations\, art\, and more! Live music at every market plus surprises throughout the season!\n \nDon’t forget that we’re also at the Columbus Commons on Thursdays from 11:00AM to 2:00PM!
URL:https://downtownservices.org/events/pearl-market/2024-10-08/
LOCATION:Gay and Pearl Streets\, Columbus Commons\, OH\, United States
END:VEVENT
BEGIN:VEVENT
DTSTART;TZID=America/New_York:20241010T110000
DTEND;TZID=America/New_York:20241010T140000
DTSTAMP:20260424T100824
CREATED:20240422T192646Z
LAST-MODIFIED:20240422T192833Z
UID:10000248-1728558000-1728568800@downtownservices.org
SUMMARY:Pearl Market
DESCRIPTION: \nPearl Market\, your downtown farmer’s market is back!\n \nJoin us at Gay & Pearl Streets downtown to shop local farm-fresh produce and goods\, artisanal creations\, art\, and more! Live music at every market plus surprises throughout the season!\n \nDon’t forget that we’re also at the Columbus Commons on Thursdays from 11:00AM to 2:00PM!
URL:https://downtownservices.org/events/pearl-market/2024-10-10/
LOCATION:Gay and Pearl Streets\, Columbus Commons\, OH\, United States
END:VEVENT
BEGIN:VEVENT
DTSTART;TZID=America/New_York:20241012T110000
DTEND;TZID=America/New_York:20241012T220000
DTSTAMP:20260424T100824
CREATED:20240924T183136Z
LAST-MODIFIED:20240924T183136Z
UID:10000360-1728730800-1728770400@downtownservices.org
SUMMARY:High Spirits: 614 Open Streets Event
DESCRIPTION:Capital Crossroads Special Improvement District in partnership with The City of Columbus\, Downtown Columbus Inc.\, Half Baked Art Fund\, and the Greater Columbus Arts Council is thrilled to announce HIGH SPIRITS\, a 614 Open Streets Art & Music Festival in downtown Columbus to kick off the Halloween Season celebrating the absurd\, the macabre and the unknown. \n\nOn Saturday\, October 12\, 2024\, from 11:00 AM to 10:00 PM\, downtown Columbus will TRANSFORM as High Street (Long to Broad Streets) and Gay Street (Third to Wall Streets) close to vehicular traffic creating our pedestrian only hallowed grounds. Three stages will be erected\, featuring local and regional talent\, including headliner DeathbyRomy from Los Angeles\, under Janet Echelman’s “Current” art installation. \n\nSinger-songwriter and provocateur DeathbyRomy describes herself as ‘Lady Gaga meets Marilyn Manson\,’ pitting catchy pop melodies with a heavier alternative sound & hypnotic vocals. In 2019 she released the EP ‘Love U to Death’\, which included her standout track “Problems\,” garnering over 66 million streams on Spotify. Just last year\, DeathbyRomy toured with legends such as Pierce the Veil and The Used\, cementing her reputation as a rising star and respected artist in the dark-pop genre.  \n\nIn 2024\, DeathbyRomy released singles with DJ’s such as NGHTMRE and Zed’s Dead\, while simultaneously taking the US by storm with a 33-show tour alongside Set It Off and Crown the Empire. This cemented her winning streak with performances at legendary summer festivals including Download\, Copenhell\, Graspop\, Rock for the People (and many more) – as well as opening for BABYMETAL at several of their European shows.  \n\nIn addition to DeathbyRomy\, over 30 artists\, bands and entertainers will take to the stage\, including The Lonely Ones\, Zoo Trippin\, Summore\, Electro Cult Circus\, The Paisley Bandits and Frankie Soleil. Additional street performer musicians and entertainment will also be present roaming the festival. \n\nAlongside musical performances and entertainment\, High Spirits features an assortment of vendors at the “Macabre Marketplace”\, food trucks at the “Court of Consumption”\, live art\, a skating rink and parklet and other surprises throughout the day.
URL:https://downtownservices.org/events/high-spirits-614-open-streets-event/
END:VEVENT
BEGIN:VEVENT
DTSTART;TZID=America/New_York:20241025T200000
DTEND;TZID=America/New_York:20241025T230000
DTSTAMP:20260424T100824
CREATED:20240423T151353Z
LAST-MODIFIED:20240924T173651Z
UID:10000289-1729886400-1729897200@downtownservices.org
SUMMARY:Movie Nights at Topiary Park
DESCRIPTION:Come together at the beautiful Topiary Park downtown for free movie nights throughout the summer.\n \nMovies start around sunset but we’ll have food trucks\, activities\, and entertainment such as trivia and lawn games before the films. \n \nMay 24: Crazy Rich Asians\nCelebrate Asian American and Pacific Islander Heritage Month with the romantic comedy “Crazy Rich Asians”.\n \nJune 28: Rent\nWe’re celebrating Pride Month with the cult-classic “Rent” along with trivia around LGBTQ+ Icons.\n \nJuly 26: National Treasure\nUS History is the theme for trivia for July’s Movie Night as we show the family-favorite “National Treasure”. \n \nAugust 23: Barbie\nCalling all dolls! We’re showing the hit film “Barbie” under the stars so grab your Ken (or Allan) and join us at the park! \n \nSeptember 27: West Side Story (Original)\nThink you know musical theater? Our September Movie Night will feature musical theater trivia and karaoke renditions of your favorite Broadway hits!\n \nOctober 25: Hocus Pocus\nFeaturing spooky and supernatural-themed trivia\, we’ll also host a costume contest so break out your most frightening or playful costumes for a chance to win prizes! 
URL:https://downtownservices.org/events/movie-nights-at-topiary-park/2024-10-25/
LOCATION:Topiary Park\, 480 E. Town St.\, Columbus\, OH
END:VEVENT
END:VCALENDAR