BEGIN:VCALENDAR
VERSION:2.0
PRODID:-//Special Improvement Districts - ECPv6.12.0.1//NONSGML v1.0//EN
CALSCALE:GREGORIAN
METHOD:PUBLISH
X-ORIGINAL-URL:https://downtownservices.org
X-WR-CALDESC:Events for Special Improvement Districts
REFRESH-INTERVAL;VALUE=DURATION:PT1H
X-Robots-Tag:noindex
X-PUBLISHED-TTL:PT1H
BEGIN:VTIMEZONE
TZID:America/New_York
BEGIN:DAYLIGHT
TZOFFSETFROM:-0500
TZOFFSETTO:-0400
TZNAME:EDT
DTSTART:20250309T070000
END:DAYLIGHT
BEGIN:STANDARD
TZOFFSETFROM:-0400
TZOFFSETTO:-0500
TZNAME:EST
DTSTART:20251102T060000
END:STANDARD
END:VTIMEZONE
BEGIN:VEVENT
DTSTART;TZID=America/New_York:20250806T180000
DTEND;TZID=America/New_York:20250806T190000
DTSTAMP:20260423T075224
CREATED:20250429T160251Z
LAST-MODIFIED:20250429T160251Z
UID:10000396-1754503200-1754506800@downtownservices.org
SUMMARY:Wellness Wednesdays at Topiary Park
DESCRIPTION:Join us each Wednesday at 6 p.m.\, June through August\, for FREE wellness classes at Topiary Park. This year\, we’re offering mindfulness\, yoga\, sound bath\, and meditation classes in the center of the park\, near the pond. Grab a blanket\, a mat\, or a chair and enjoy a free community class that benefits your mental health.  \nClass Schedule: \nMindfulness: June 4\, July 2\, Aug. 6  \nYoga: June 11\, July 9\, July 30\, Aug. 13  \nSound Bath: June 18\, July 16\, Aug. 20  \nMeditation: June 25\, July 23\, Aug. 27
URL:https://downtownservices.org/events/wellness-wednesdays-at-topiary-park/2025-08-06/
LOCATION:Topiary Park\, 480 E. Town St.\, Columbus\, OH
END:VEVENT
BEGIN:VEVENT
DTSTART;TZID=America/New_York:20250807T110000
DTEND;TZID=America/New_York:20250807T140000
DTSTAMP:20260423T075224
CREATED:20250331T175650Z
LAST-MODIFIED:20250331T175736Z
UID:10000375-1754564400-1754575200@downtownservices.org
SUMMARY:Pearl Market
DESCRIPTION:Pearl Market connects Ohio farmers\, artisans\, and creators with the urban heart of Columbus at the historic Pearl Alley and neighboring streets. Come visit the vibrant Pearl Market every Thursday from 11 a.m. to 2 p.m. for an incredible and diverse selection of fruits and vegetables\, farm and artisanal goods\, live music\, and more! New this year: Pearl Market is sponsored by Capital Crossroads Special Improvement District in partnership with Common Greens Ohio.
URL:https://downtownservices.org/events/pearl-market-2/2025-08-07/
LOCATION:Gay and Pearl Streets\, Columbus Commons\, OH\, United States
END:VEVENT
BEGIN:VEVENT
DTSTART;TZID=America/New_York:20250813T180000
DTEND;TZID=America/New_York:20250813T190000
DTSTAMP:20260423T075224
CREATED:20250429T160251Z
LAST-MODIFIED:20250429T160251Z
UID:10000397-1755108000-1755111600@downtownservices.org
SUMMARY:Wellness Wednesdays at Topiary Park
DESCRIPTION:Join us each Wednesday at 6 p.m.\, June through August\, for FREE wellness classes at Topiary Park. This year\, we’re offering mindfulness\, yoga\, sound bath\, and meditation classes in the center of the park\, near the pond. Grab a blanket\, a mat\, or a chair and enjoy a free community class that benefits your mental health.  \nClass Schedule: \nMindfulness: June 4\, July 2\, Aug. 6  \nYoga: June 11\, July 9\, July 30\, Aug. 13  \nSound Bath: June 18\, July 16\, Aug. 20  \nMeditation: June 25\, July 23\, Aug. 27
URL:https://downtownservices.org/events/wellness-wednesdays-at-topiary-park/2025-08-13/
LOCATION:Topiary Park\, 480 E. Town St.\, Columbus\, OH
END:VEVENT
BEGIN:VEVENT
DTSTART;TZID=America/New_York:20250814T110000
DTEND;TZID=America/New_York:20250814T140000
DTSTAMP:20260423T075224
CREATED:20250331T175650Z
LAST-MODIFIED:20250331T175736Z
UID:10000376-1755169200-1755180000@downtownservices.org
SUMMARY:Pearl Market
DESCRIPTION:Pearl Market connects Ohio farmers\, artisans\, and creators with the urban heart of Columbus at the historic Pearl Alley and neighboring streets. Come visit the vibrant Pearl Market every Thursday from 11 a.m. to 2 p.m. for an incredible and diverse selection of fruits and vegetables\, farm and artisanal goods\, live music\, and more! New this year: Pearl Market is sponsored by Capital Crossroads Special Improvement District in partnership with Common Greens Ohio.
URL:https://downtownservices.org/events/pearl-market-2/2025-08-14/
LOCATION:Gay and Pearl Streets\, Columbus Commons\, OH\, United States
END:VEVENT
BEGIN:VEVENT
DTSTART;TZID=America/New_York:20250820T180000
DTEND;TZID=America/New_York:20250820T190000
DTSTAMP:20260423T075224
CREATED:20250429T160251Z
LAST-MODIFIED:20250429T160251Z
UID:10000398-1755712800-1755716400@downtownservices.org
SUMMARY:Wellness Wednesdays at Topiary Park
DESCRIPTION:Join us each Wednesday at 6 p.m.\, June through August\, for FREE wellness classes at Topiary Park. This year\, we’re offering mindfulness\, yoga\, sound bath\, and meditation classes in the center of the park\, near the pond. Grab a blanket\, a mat\, or a chair and enjoy a free community class that benefits your mental health.  \nClass Schedule: \nMindfulness: June 4\, July 2\, Aug. 6  \nYoga: June 11\, July 9\, July 30\, Aug. 13  \nSound Bath: June 18\, July 16\, Aug. 20  \nMeditation: June 25\, July 23\, Aug. 27
URL:https://downtownservices.org/events/wellness-wednesdays-at-topiary-park/2025-08-20/
LOCATION:Topiary Park\, 480 E. Town St.\, Columbus\, OH
END:VEVENT
BEGIN:VEVENT
DTSTART;TZID=America/New_York:20250821T110000
DTEND;TZID=America/New_York:20250821T140000
DTSTAMP:20260423T075224
CREATED:20250331T175650Z
LAST-MODIFIED:20250331T175736Z
UID:10000377-1755774000-1755784800@downtownservices.org
SUMMARY:Pearl Market
DESCRIPTION:Pearl Market connects Ohio farmers\, artisans\, and creators with the urban heart of Columbus at the historic Pearl Alley and neighboring streets. Come visit the vibrant Pearl Market every Thursday from 11 a.m. to 2 p.m. for an incredible and diverse selection of fruits and vegetables\, farm and artisanal goods\, live music\, and more! New this year: Pearl Market is sponsored by Capital Crossroads Special Improvement District in partnership with Common Greens Ohio.
URL:https://downtownservices.org/events/pearl-market-2/2025-08-21/
LOCATION:Gay and Pearl Streets\, Columbus Commons\, OH\, United States
END:VEVENT
BEGIN:VEVENT
DTSTART;TZID=America/New_York:20250822T203000
DTEND;TZID=America/New_York:20250822T223000
DTSTAMP:20260423T075224
CREATED:20250522T134039Z
LAST-MODIFIED:20250522T134039Z
UID:10000453-1755894600-1755901800@downtownservices.org
SUMMARY:Summer Movie Nights in Topiary Park
DESCRIPTION:Plan a trip to the beautiful Topiary Park this summer for an evening under the stars while watching some of your favorite movies. Bring a blanket and enjoy the movie\, food trucks and activities. Food truck opens at 7:30 p.m. Movies start at 8:30 p.m. Sponsored by the Discovery Special Improvement District and Columbus Recreation and Parks. This event series is FREE and takes place at 480 E. Town Street (Topiary Park). Click here to reserve your spot! \nJuly 25: Clueless \nAugust 22: The Goonies \nSeptember 25: Ghostbusters
URL:https://downtownservices.org/events/summer-movie-nights-in-topiary-park/2025-08-22/
END:VEVENT
BEGIN:VEVENT
DTSTART;TZID=America/New_York:20250827T180000
DTEND;TZID=America/New_York:20250827T190000
DTSTAMP:20260423T075224
CREATED:20250429T160251Z
LAST-MODIFIED:20250429T160251Z
UID:10000399-1756317600-1756321200@downtownservices.org
SUMMARY:Wellness Wednesdays at Topiary Park
DESCRIPTION:Join us each Wednesday at 6 p.m.\, June through August\, for FREE wellness classes at Topiary Park. This year\, we’re offering mindfulness\, yoga\, sound bath\, and meditation classes in the center of the park\, near the pond. Grab a blanket\, a mat\, or a chair and enjoy a free community class that benefits your mental health.  \nClass Schedule: \nMindfulness: June 4\, July 2\, Aug. 6  \nYoga: June 11\, July 9\, July 30\, Aug. 13  \nSound Bath: June 18\, July 16\, Aug. 20  \nMeditation: June 25\, July 23\, Aug. 27
URL:https://downtownservices.org/events/wellness-wednesdays-at-topiary-park/2025-08-27/
LOCATION:Topiary Park\, 480 E. Town St.\, Columbus\, OH
END:VEVENT
BEGIN:VEVENT
DTSTART;TZID=America/New_York:20250828T110000
DTEND;TZID=America/New_York:20250828T140000
DTSTAMP:20260423T075224
CREATED:20250331T175650Z
LAST-MODIFIED:20250331T175736Z
UID:10000378-1756378800-1756389600@downtownservices.org
SUMMARY:Pearl Market
DESCRIPTION:Pearl Market connects Ohio farmers\, artisans\, and creators with the urban heart of Columbus at the historic Pearl Alley and neighboring streets. Come visit the vibrant Pearl Market every Thursday from 11 a.m. to 2 p.m. for an incredible and diverse selection of fruits and vegetables\, farm and artisanal goods\, live music\, and more! New this year: Pearl Market is sponsored by Capital Crossroads Special Improvement District in partnership with Common Greens Ohio.
URL:https://downtownservices.org/events/pearl-market-2/2025-08-28/
LOCATION:Gay and Pearl Streets\, Columbus Commons\, OH\, United States
END:VEVENT
END:VCALENDAR