BEGIN:VCALENDAR
VERSION:2.0
PRODID:-//Special Improvement Districts - ECPv6.12.0.1//NONSGML v1.0//EN
CALSCALE:GREGORIAN
METHOD:PUBLISH
X-WR-CALNAME:Special Improvement Districts
X-ORIGINAL-URL:https://downtownservices.org
X-WR-CALDESC:Events for Special Improvement Districts
REFRESH-INTERVAL;VALUE=DURATION:PT1H
X-Robots-Tag:noindex
X-PUBLISHED-TTL:PT1H
BEGIN:VTIMEZONE
TZID:America/New_York
BEGIN:DAYLIGHT
TZOFFSETFROM:-0500
TZOFFSETTO:-0400
TZNAME:EDT
DTSTART:20230312T070000
END:DAYLIGHT
BEGIN:STANDARD
TZOFFSETFROM:-0400
TZOFFSETTO:-0500
TZNAME:EST
DTSTART:20231105T060000
END:STANDARD
END:VTIMEZONE
BEGIN:VEVENT
DTSTART;TZID=America/New_York:20230820T130000
DTEND;TZID=America/New_York:20230820T160000
DTSTAMP:20260422T080542
CREATED:20230710T195335Z
LAST-MODIFIED:20230710T195428Z
UID:10000022-1692536400-1692547200@downtownservices.org
SUMMARY:Sundays in the Park
DESCRIPTION:Food trucks\, live music and games. \nFood Trucks: Red Head Chef\, Galaxy Coffee \nMusic: Scott Brooks
URL:https://downtownservices.org/events/sundays-in-the-park-10/
LOCATION:Kaufman Plaza\, Columbus Main Library\, 96 S. Grant Ave.\, Columbus\, OH
CATEGORIES:Nature/Outdoors
ATTACH;FMTTYPE=image/png:https://downtownservices.org/wp-content/uploads/2023/05/Sundays-In-The-Park-v2-72dpi.png
END:VEVENT
BEGIN:VEVENT
DTSTART;TZID=America/New_York:20230825T211500
DTEND;TZID=America/New_York:20230825T233000
DTSTAMP:20260422T080542
CREATED:20230524T204525Z
LAST-MODIFIED:20230524T205211Z
UID:10000031-1692998100-1693006200@downtownservices.org
SUMMARY:Movie Nights in the Park
DESCRIPTION:Enjoy watching a movie amidst the topiaries in the park the fourth Fridays in June\, July\, and August at 9:15 p.m. Stop by early to enjoy live music and food trucks. Bring chairs or blankets. This week’s movie is Grease.
URL:https://downtownservices.org/events/movie-night-4/
LOCATION:Topiary Park\, 480 E. Town St.\, Columbus\, OH
CATEGORIES:Family
END:VEVENT
END:VCALENDAR